BEGIN:VCALENDAR
VERSION:2.0
PRODID:-//ChamberMaster//Event Calendar 2.0//EN
METHOD:PUBLISH
X-PUBLISHED-TTL:P3D
REFRESH-INTERVAL:P3D
CALSCALE:GREGORIAN
BEGIN:VEVENT
DTSTART:20240519T203000Z
DTEND:20240519T230000Z
X-MICROSOFT-CDO-ALLDAYEVENT:FALSE
SUMMARY:Armed Forces and Merchant Marine Tea
DESCRIPTION:San Pedro Bay Historical Society Armed Forces and Merchant Marine Tea Sunday\, May 19th 1:30pm-4:00 pm The Muller House Museum 1542 S. Beacon Street Reservation required. Payment information on our website. www.sanpedrobayhistoricalsociety.com
X-ALT-DESC;FMTTYPE=text/html:San Pedro Bay Historical Society Armed Forces and Merchant Marine Tea Sunday\, May 19th 1:30pm-4:00 pm The Muller House Museum 1542 S. Beacon Street Reservation required. Payment information on our website. www.sanpedrobayhistoricalsociety.com
LOCATION:The Muller House Museum 1542 S. Beacon Street
UID:e.2718.8745
SEQUENCE:3
DTSTAMP:20260422T180733Z
URL:https://www.sanpedrochamber.com/events/details/armed-forces-and-merchant-marine-tea-8745
END:VEVENT

END:VCALENDAR
