BEGIN:VCALENDAR
VERSION:2.0
PRODID:-//ChamberMaster//Event Calendar 2.0//EN
METHOD:PUBLISH
X-PUBLISHED-TTL:P3D
REFRESH-INTERVAL:P3D
CALSCALE:GREGORIAN
BEGIN:VEVENT
DTSTART:20240101T043000Z
DTEND:20240101T081500Z
X-MICROSOFT-CDO-ALLDAYEVENT:FALSE
SUMMARY:ANDY & RENEE & HARD RAIN New Year’s Concert
DESCRIPTION:South Bay favorite folk-rockers return to the Annex to ring in the new year with hits from across the decades. Includes late-night pizza\, party favors\, and a champagne toast to welcome in 2024!
X-ALT-DESC;FMTTYPE=text/html:South Bay favorite folk-rockers return to the Annex to ring in the new year with hits from across the decades. Includes late-night pizza\, party favors\, and a champagne toast to welcome in 2024!
LOCATION:The Grand Annex Music Hall 434 W 6th Street San Pedro CA 90731
UID:e.2718.8242
SEQUENCE:3
DTSTAMP:20260422T223356Z
URL:https://www.sanpedrochamber.com/events/details/andy-renee-hard-rain-new-year-s-concert-8242
END:VEVENT

END:VCALENDAR
