BEGIN:VCALENDAR
VERSION:2.0
PRODID:-//ChamberMaster//Event Calendar 2.0//EN
METHOD:PUBLISH
X-PUBLISHED-TTL:P3D
REFRESH-INTERVAL:P3D
CALSCALE:GREGORIAN
BEGIN:VEVENT
DTSTART:20240304T000000Z
DTEND:20240304T000000Z
X-MICROSOFT-CDO-ALLDAYEVENT:FALSE
SUMMARY:9th Annual Wild & Scenic Film Festival On Tour Presented by the Palos Verdes Peninsula Land Conservancy
DESCRIPTION:The PVP Land Conservancy hosts a special selection of 11 films in 2.5 hours on Sunday\, March 3rd at 4 pm that will thrill all ages and inspire new ideas\, actions and awareness. The event will also include a chance to meet Sid\, a two-toed sloth\, plus a beer/wine bar\, photo booth and refreshments. The festival will be held at Dana Middle School\, 1501 S Cabrillo Ave\, San Pedro. Tickets are $15 online and $20 at the door. The event sells out quickly. For tickets and more information\, visit: PVPLC.ORG/calendar
X-ALT-DESC;FMTTYPE=text/html:The PVP Land Conservancy hosts a special selection of 11 films in 2.5 hours on Sunday\, March 3rd at 4 pm that will thrill all ages and inspire new ideas\, actions and awareness. The event will also include a chance to meet Sid\, a two-toed sloth\, plus a beer/wine bar\, photo booth and refreshments. The festival will be held at Dana Middle School\, 1501 S Cabrillo Ave\, San Pedro. Tickets are $15 online and $20 at the door. The event sells out quickly. For tickets and more information\, visit: PVPLC.ORG/calendar
LOCATION:Dana Middle School 1501 S Cabrillo Ave San Pedro\, CA 90731
UID:e.2718.8672
SEQUENCE:3
DTSTAMP:20260422T131745Z
URL:https://www.sanpedrochamber.com/events/details/9th-annual-wild-scenic-film-festival-on-tour-presented-by-the-palos-verdes-peninsula-land-conservancy-8672
END:VEVENT

END:VCALENDAR
