BEGIN:VCALENDAR
VERSION:2.0
PRODID:-//ChamberMaster//Event Calendar 2.0//EN
METHOD:PUBLISH
X-PUBLISHED-TTL:P3D
REFRESH-INTERVAL:P3D
CALSCALE:GREGORIAN
BEGIN:VEVENT
DTSTART;VALUE=DATE:20240125
DTEND;VALUE=DATE:20240126
TRANSP:TRANSPARENT
X-MICROSOFT-CDO-ALLDAYEVENT:TRUE
SUMMARY:2024 Breakfast with the Chamber
DESCRIPTION:Join us for Breakfast with the Chamber.   You will also have a chance to introduce your business and network with other Chamber members.  \n\n\n\nReserve early!  The event will sell out.
X-ALT-DESC;FMTTYPE=text/html:<span style="font-family:arial\,sans-serif\;"><span style="font-size:10.0pt\;">Join us for Breakfast with the Chamber.&nbsp\; &nbsp\;You will also have a chance to introduce your business and network with other Chamber members.&nbsp\;&nbsp\;<br />\n<br />\nReserve early!&nbsp\; The event will sell out.&nbsp\;&nbsp\;</span></span><br />\n<br />\n&nbsp\;
LOCATION:
UID:e.2718.8663
SEQUENCE:3
DTSTAMP:20260422T223013Z
URL:https://www.sanpedrochamber.com/events/details/2024-breakfast-with-the-chamber-8663
END:VEVENT

END:VCALENDAR
